BEGIN:VCALENDAR
VERSION:2.0
PRODID:-//CiviCRM//NONSGML CiviEvent iCal//EN
X-WR-TIMEZONE:America/Chicago
METHOD:PUBLISH
BEGIN:VTIMEZONE
TZID:America/Chicago
BEGIN:DAYLIGHT
TZOFFSETFROM:-0500
TZOFFSETTO:-0500
TZNAME:CDT
DTSTART:20260506T100000
END:DAYLIGHT
END:VTIMEZONE
BEGIN:VEVENT
UID:CiviCRM_EventID_3509_ec3889f126b205f9816e7db29ef6d1e4@iowacci.ourpowerbase.net
SUMMARY:5.6.26 Lobby Day
X-ALT-DESC;FMTTYPE=text/html:<!DOCTYPE HTML PUBLIC
  "-//W3C//DTD HTML 3.2//EN"><html><body><p>Join us
  as we head to the statehouse to let our legislato
 rs know what we need them to do this legislative s
 ession. We will meet at the CCI office and do a tr
 aining on how to lobby at 10:00AM\, then we will c
 arpool to the capitol\, spend a couple hours lobby
 ing\, and return to the office to enjoy some lunch
  together while we debrief what we did. </p></body
 ></html>
DESCRIPTION:Join us as we head to the statehouse to let our le
 gislators know what we need them to do this legisl
 ative session. We will meet at the CCI office and 
 do a training on how to lobby at 10:00AM\, then we
  will carpool to the capitol\, spend a couple hour
 s lobbying\, and return to the office to enjoy som
 e lunch together while we debrief what we did. \n 
 \n 
CATEGORIES:C4 Event
CALSCALE:GREGORIAN
DTSTAMP;TZID=America/Chicago:20260506T100000
DTSTART;TZID=America/Chicago:20260506T100000
DTEND;TZID=America/Chicago:20260506T140000
LOCATION:2001 Forest Ave\n Des Moines\, IA 50311\n 
URL:https://iowacci.ourpowerbase.net/civicrm/event/info?reset=1&id=3509
END:VEVENT
END:VCALENDAR
