BEGIN:VCALENDAR
VERSION:2.0
PRODID:-//CiviCRM//NONSGML CiviEvent iCal//EN
X-WR-TIMEZONE:America/Chicago
METHOD:PUBLISH
BEGIN:VTIMEZONE
TZID:America/Chicago
BEGIN:DAYLIGHT
TZOFFSETFROM:-0500
TZOFFSETTO:-0500
TZNAME:CDT
DTSTART:20260501T170000
END:DAYLIGHT
END:VTIMEZONE
BEGIN:VEVENT
UID:CiviCRM_EventID_3548_ec3889f126b205f9816e7db29ef6d1e4@iowacci.ourpowerbase.net
SUMMARY:5.28.26 Monthly Water Testing call
X-ALT-DESC;FMTTYPE=text/html:<!DOCTYPE HTML PUBLIC
  "-//W3C//DTD HTML 3.2//EN"><html><body><p><span s
 tyle="font-size:18px\;">Join us for our monthly <s
 trong>Zoom call</strong><strong> </strong>on <stro
 ng>Thursday\, May 28 at 5:00pm. </strong>Meeting d
 etails forthcoming.</span></p>\n \n <p> </p></body
 ></html>
DESCRIPTION:Join us for our monthly Zoom call on Thursday\, Ma
 y 28 at 5:00pm. Meeting details forthcoming.\n \n 
 \n \n  \n \n 
CATEGORIES:C3 Meeting
CALSCALE:GREGORIAN
DTSTAMP;TZID=America/Chicago:20260501T170000
DTSTART;TZID=America/Chicago:20260501T170000
DTEND;TZID=America/Chicago:20260501T170000
LOCATION:On Zoom!\n IA\n 
URL:https://iowacci.ourpowerbase.net/civicrm/event/info?reset=1&id=3548
END:VEVENT
END:VCALENDAR
